BEGIN:VCALENDAR
VERSION:2.0
PRODID:-//wp-events-plugin.com//7.2.3.1//EN
TZID:Europe/Zagreb
X-WR-TIMEZONE:Europe/Zagreb
BEGIN:VEVENT
UID:33@gbbconcept.com
DTSTART:20261106T080000Z
DTEND:20261108T160000Z
DTSTAMP:20260125T130015Z
URL:https://gbbconcept.com/events/dns-basic-a-3/
SUMMARY:DNS Basic A
DESCRIPTION:Jedan od najcjenjenijih tečajeva na svijetu u organizaciji “
 Praške škole rehabilitacije” s pregršt istraživanja i dokaza koji po
 tvrđuju kvalitetu DNS tehnike.\n\nDNS tehnika se primjenjuje u rehabilita
 ciji bolova kralježnice\, problema s kukovima\, ramenima i mnogim drugim 
 dijagnozama\, a isti princip rada pokazao se vrlo efikasnim u radu s vrhun
 skim profesionalnim sportašima stvarajući kvalitetne temelje i “centra
 lnu stabilnost za distalnu mobilnost”.\n\nBroj 1 tečaj na temu kontrole
  i stabilnosti trupa kao preduvjeta za sve ostale pokrete tijela.\n\nPonos
 ni smo istaknuti DNS tečajeve u našoj organizaciji za područje Splita i
  cijele Dalmacije.\n\n 	DNS Basic “A” modul u trajanju 3 dana – 59
 0€ + 100€ Praške škole\n\nBroj mjesta je limitiran zbog kvalitete 
 i praktičnosti samog tečaja.\n\n\n\nPrijava na tečaj\n[contact-form-7 i
 d="00a65d9" title="Prijava za tečaj - Novo"]
ATTACH;FMTTYPE=image/jpeg:https://gbbconcept.com/wp-content/uploads/2025/1
 0/edukacije-web-5.png
LOCATION:GBB Concept Split\, Ulica generala Blage Zadre 14\, Split\, Hrvats
 ka\, 21000\, Hrvatska
X-APPLE-STRUCTURED-LOCATION;VALUE=URI;X-ADDRESS=Ulica generala Blage Zadre 
 14\, Split\, Hrvatska\, 21000\, Hrvatska;X-APPLE-RADIUS=100;X-TITLE=GBB Co
 ncept Split:geo:0,0
END:VEVENT
END:VCALENDAR