BEGIN:VCALENDAR
VERSION:2.0
PRODID:-//wp-events-plugin.com//7.2.3.1//EN
TZID:Europe/Zagreb
X-WR-TIMEZONE:Europe/Zagreb
BEGIN:VEVENT
UID:37@gbbconcept.com
DTSTART;TZID=Europe/Zagreb:20260424T090000
DTEND;TZID=Europe/Zagreb:20260426T170000
DTSTAMP:20260209T112923Z
URL:https://gbbconcept.com/events/mfr-miofascijalna-relaksacija/
SUMMARY:MFR - Miofascijalna relaksacija
DESCRIPTION:MFR (Myofascial Release) je tečaj manualne rehabilitacijske te
 rapije koji poučava tehniku miofascijalne relaksacije radi smanjenja boli
  i poboljšanja pokretljivosti. Edukacija se sastoji od četiri modula (25
  sati po modulu)\, a po završetku polaznici stječu diplomu i naziv Miofa
 scijalni terapeut. Tečaj vodi instruktorica Kristina Radović\, DRM\, rCS
 T\, s više od 13 godina iskustva i međunarodnim priznanjem.\nOPIS PO MOD
 ULIMA:\nModul 1 – Osnovni tečaj\n📅 06.–08.02.2026. (2\,5 dana / 25
  sati)\nSadržaj:Filozofija\, anatomija i funkcija fascijalne strukture. P
 ovijest i osnovni principi tehnike MFR. Razvijanje palpacije\, procedura r
 ada MFR. Prikaz miofascijalnih lanaca. Demonstracija pregleda i tretmana n
 akon posturalne analize. Pregled i planiranje terapije.\nRad na gornjem di
 jelu tijela: problemi gornjih ekstremiteta\; procedure rada za rameni poja
 s\, gornji i donji dio ruke.Simptomi\, stanja i oboljenja: smrznuto rame\,
  impingement\, epikondilitis\, Morbus Sudeck\, skolioze\, spondiloze... os
 novne tehnike relaksacije.\nNakon ovog modula\, polaznik će bolje razumje
 ti funkciju i značaj fascije te će biti u stanju kvalitetno tretirati pa
 cijente u svojoj praksi\, rješavajući problematiku gornjeg dijela tijela
  kroz poboljšanje mobilnosti i funkcionalnosti trupa.\n\nModul 2\n📅 24
 .–26.04.2026. (2\,5 dana / 25 sati)\nSadržaj:Rad na donjem dijelu tijel
 a. Diskusija o učestalim terapijskim pogreškama koje dovode do promjena 
 unutar fascije.Stanja i oboljenja donjih ekstremiteta i zdjelice. Utjecaj 
 disfunkcije mišića iz skupine latissimus dorsi\, quadratus lumborum\, il
 iopsoas...Dijagnostika\, simptomi\, stanja i oboljenja: disbalans zdjelice
 \, lumboishialgija\, fascija stopala\, hernija diska\, sindrom piriformisa
 \, supinacijske traume\, bursitis\, petni trn...Prikaz\, pojašnjenje i ra
 d na dijafragmama.\nTeorijski dio:\n\n\n 	Anatomija zdjelice (koštane i m
 ekotkivne strukture)\n 	Anatomija donjih ekstremiteta i stopala\n 	Fiziolo
 gija\n 	Patofiziologija zdjelice i donjih ekstremiteta\n 	Dijafragme\n\nPr
 aktični dio:\n\n\n 	Demonstracija pregleda i tretmana nakon posturalne an
 alize\n 	Pregled i planiranje terapije\n 	Rad na zdjelici\, donjim ekstrem
 itetima i stopalima\n 	Rad na poprečnim dijafragmama (torakalna apertura\
 , respiratorna dijafragma\, zdjelična i urogenitalna dijafragma)\n\nMFR p
 rema dijagnozama:povišeni/spušteni ilium\, rotacija zdjelice\, prednji/z
 adnji križni ligamenti\, spušteno stopalo\, petni trn\nNakon ovog modula
 \, polaznik će se upoznati s važnosti rada na dijafragmama\, bolje razum
 jeti funkciju zdjelice i njezine primarne uloge u tijelu te će biti u sta
 nju kvalitetno tretirati donji segment tijela u svojoj praksi.\n\nModul 3\
 n📅 26.–28.06.2026. (2\,5 dana / 25 sati)\nSadržaj:Rad na cervikalnoj
  regiji kralježnice\, regiji perikarda\, štitnjači\, kao i na glavi i l
 icu.Dijagnostika\, simptomi\, stanja i oboljenja regije vrata: cervikalni 
 sindrom\, napetost skalenskih mišića\, tortikolis\, zujanje u ušima\, m
 igrene\, disfunkcije perikarda...\nTeorijski dio:\n\n\n 	Anatomija vrata i
  glave (koštane i mekotkivne strukture)\n 	Anatomija lica\n 	Fiziologija\
 n 	Patofiziologija cervikalne regije\n 	Hyoid i thyroid – anatomija i pa
 tofiziologija\n\nPraktični dio:\n\n\n 	Demonstracija pregleda i tretmana 
 nakon posturalne analize\n 	Pregled i planiranje terapije\n 	Rad na vratu\
 , glavi i licu\n 	Tretman kod problematike sa štitnjačom\; rad na hyoidu
 \n\nMFR prema dijagnozama:cervikalna regija – bolovi vrata\, glave i ram
 enog pojasa\, tretmani za oporavak nakon moždanog udara\, asfiksije lica\
 , CAD i VBI sindroma\, poteškoće s gutanjem\, stanja i oboljenja štitnj
 ače.\nNakon ovog modula\, polaznik će usvojiti potrebne vještine za rad
  na vratu\, glavi i licu te će biti osposobljen za tretiranje problematik
 e regije štitnjače i perikarda.\n\nModul 4\n📅 04.–06.09.2026. (2\,5
  dana / 25 sati)\nSadržaj:Rad i tretman ožiljaka (disfunkcionalnost fasc
 ijalnog sustava u odnosu na posturu) uz upoznavanje s adhezijama u radu.U 
 drugom dijelu tečaja prikazane su specijalizirane procedure za rad na vis
 ceralnim segmentima – abdomenu.Simptomi\, stanja i oboljenja: abdominaln
 i i urogenitalni problemi\, kolike\, kamenci\, probavni sustav\, psihosoma
 tske promjene unutar tijela.\nTeorijski dio:\n\n\n 	Priraslice – nastana
 k i restrikcije na ožiljnom tkivu\n 	Vrste ožiljaka\n 	Anatomija abdomen
 a\n 	Fiziologija\n 	Patofiziologija\n\nPraktični dio:\n\n\n 	Demonstracij
 a pregleda i tretmana nakon posturalne analize\n 	Pregled i planiranje ter
 apije\n 	Rad na ožiljnom tkivu\n 	Rad na visceralnim organima\n\nMFR prem
 a dijagnozama:priraslice na ožiljnom tkivu\, problemi s kolikama\, inkont
 inencijom\, kamencima\, sterilitetom\, pražnjenjem crijeva...\nNakon ovog
  modula\, polaznik će usvojiti važnost i primjenu rada na ožiljcima\, m
 obilizacije i smanjenja ožiljaka\, njihove razlike\, karakteristike i utj
 ecaj na posturu.Po završetku edukacije\, polaznik će imati potpuno savla
 dano teorijsko i praktično znanje MFR tehnike\, moći će ju primjenjivat
 i u svom radu te prepoznavati uzroke i posljedice u posturalnoj procjeni p
 acijenata\, rješavajući različita stanja i oboljenja.\n💶 Cijena po m
 odulu: 470 EUR\n\n&nbsp\;\n\n\n\nPrijava na tečaj\n[contact-form-7 id="00
 a65d9" title="Prijava za tečaj - Novo"]
ATTACH;FMTTYPE=image/jpeg:https://gbbconcept.com/wp-content/uploads/2025/1
 0/edukacije-web.png
LOCATION:GBB Concept Split\, Ulica generala Blage Zadre 14\, Split\, Hrvats
 ka\, 21000\, Hrvatska
X-APPLE-STRUCTURED-LOCATION;VALUE=URI;X-ADDRESS=Ulica generala Blage Zadre 
 14\, Split\, Hrvatska\, 21000\, Hrvatska;X-APPLE-RADIUS=100;X-TITLE=GBB Co
 ncept Split:geo:0,0
END:VEVENT
BEGIN:VTIMEZONE
TZID:Europe/Zagreb
X-LIC-LOCATION:Europe/Zagreb
BEGIN:DAYLIGHT
DTSTART:20260329T030000
TZOFFSETFROM:+0100
TZOFFSETTO:+0200
TZNAME:CEST
END:DAYLIGHT
END:VTIMEZONE
END:VCALENDAR